BEGIN:VCALENDAR
VERSION:2.0
PRODID:-//Foothill Communities Association - ECPv6.15.20//NONSGML v1.0//EN
CALSCALE:GREGORIAN
METHOD:PUBLISH
X-WR-CALNAME:Foothill Communities Association
X-ORIGINAL-URL:https://fcahome.org
X-WR-CALDESC:Events for Foothill Communities Association
REFRESH-INTERVAL;VALUE=DURATION:PT1H
X-Robots-Tag:noindex
X-PUBLISHED-TTL:PT1H
BEGIN:VTIMEZONE
TZID:America/Denver
BEGIN:DAYLIGHT
TZOFFSETFROM:-0700
TZOFFSETTO:-0600
TZNAME:MDT
DTSTART:20230312T090000
END:DAYLIGHT
BEGIN:STANDARD
TZOFFSETFROM:-0600
TZOFFSETTO:-0700
TZNAME:MST
DTSTART:20231105T080000
END:STANDARD
BEGIN:DAYLIGHT
TZOFFSETFROM:-0700
TZOFFSETTO:-0600
TZNAME:MDT
DTSTART:20240310T090000
END:DAYLIGHT
BEGIN:STANDARD
TZOFFSETFROM:-0600
TZOFFSETTO:-0700
TZNAME:MST
DTSTART:20241103T080000
END:STANDARD
BEGIN:DAYLIGHT
TZOFFSETFROM:-0700
TZOFFSETTO:-0600
TZNAME:MDT
DTSTART:20250309T090000
END:DAYLIGHT
BEGIN:STANDARD
TZOFFSETFROM:-0600
TZOFFSETTO:-0700
TZNAME:MST
DTSTART:20251102T080000
END:STANDARD
END:VTIMEZONE
BEGIN:VEVENT
DTSTART;TZID=America/Denver:20241103T180000
DTEND;TZID=America/Denver:20241103T190000
DTSTAMP:20260420T090507
CREATED:20241018T173125Z
LAST-MODIFIED:20241019T121208Z
UID:10000001-1730656800-1730660400@fcahome.org
SUMMARY:2024 Annual and Town Hall Meeting
DESCRIPTION:The Annual and Town Hall Meeting of the Foothill Communities Association is open to the public\, and everyone is welcome. This will be the 61th FCA Annual Meeting. \nSign-in begins at 6:00 PM. You can update your membership and pay dues during sign-in. Local agencies and\nofficials will have tables and be available for discussions from 6:00 PM to 7:00 PM. Presentations will begin at 7:00 PM. Pizza and coffee served at 6:00 PM. There will be door prize drawings before the Q&A Session. \nWelcoming Remarks – Richard Nelson\, FCA President\nOrange County District Attorney Address – Todd Spitzer\, District Attorney\nThird District Address – Don Wagner\, Orange County Third District Supervisor\nQ&A with speakers – You can ask questions of the speakers and local officials during Q&A. You can also email\nquestions until Friday\, March 1\, 2024\, to rnelson@FCAhome.org. We will hold the questions and ask as many as\npossible on your behalf
URL:https://fcahome.org/event/2024-annual-and-town-hall-meeting/
LOCATION:Hewes Middle School (Corner of Foothill and Hewes\, North Tustin)\, 13232 Hewes Ave\, Santa Ana\, CA\, 92705\, United States
ATTACH;FMTTYPE=image/jpeg:https://fcahome.org/wp-content/uploads/2024/10/Crime-Scene-with-Caption-2-croped_Page_1-scaled.jpg
END:VEVENT
BEGIN:VEVENT
DTSTART;TZID=America/Denver:20241107T180000
DTEND;TZID=America/Denver:20241107T190000
DTSTAMP:20260420T090507
CREATED:20241018T173423Z
LAST-MODIFIED:20241210T204649Z
UID:10000003-1731002400-1731006000@fcahome.org
SUMMARY:Monthly FCA Board Meetings
DESCRIPTION:Everyone is Welcome to attend!\nDate: First Thursday of every month\, except March (month of the annual meeting) and December (we go dark in December).\nTime: 7:00 pm\nPlace: In-person and Online. Email Rick Nelson (leadership.fca@gmail.com) if you want to participate and attendance information will be emailed to you. We cannot public publish the online login credentials to avoid distribution by hackers.
URL:https://fcahome.org/event/monthly-fca-board-meetings/2024-11-07/
CATEGORIES:Board Meetings
ATTACH;FMTTYPE=image/jpeg:https://fcahome.org/wp-content/uploads/2024/10/Don-Wagner-w-caption-cropped-1-scaled.jpg
END:VEVENT
END:VCALENDAR