BEGIN:VCALENDAR
VERSION:2.0
PRODID:-//Foothill Communities Association - ECPv6.15.20//NONSGML v1.0//EN
CALSCALE:GREGORIAN
METHOD:PUBLISH
X-WR-CALNAME:Foothill Communities Association
X-ORIGINAL-URL:https://fcahome.org
X-WR-CALDESC:Events for Foothill Communities Association
REFRESH-INTERVAL;VALUE=DURATION:PT1H
X-Robots-Tag:noindex
X-PUBLISHED-TTL:PT1H
BEGIN:VTIMEZONE
TZID:America/Denver
BEGIN:DAYLIGHT
TZOFFSETFROM:-0700
TZOFFSETTO:-0600
TZNAME:MDT
DTSTART:20240310T090000
END:DAYLIGHT
BEGIN:STANDARD
TZOFFSETFROM:-0600
TZOFFSETTO:-0700
TZNAME:MST
DTSTART:20241103T080000
END:STANDARD
BEGIN:DAYLIGHT
TZOFFSETFROM:-0700
TZOFFSETTO:-0600
TZNAME:MDT
DTSTART:20250309T090000
END:DAYLIGHT
BEGIN:STANDARD
TZOFFSETFROM:-0600
TZOFFSETTO:-0700
TZNAME:MST
DTSTART:20251102T080000
END:STANDARD
BEGIN:DAYLIGHT
TZOFFSETFROM:-0700
TZOFFSETTO:-0600
TZNAME:MDT
DTSTART:20260308T090000
END:DAYLIGHT
BEGIN:STANDARD
TZOFFSETFROM:-0600
TZOFFSETTO:-0700
TZNAME:MST
DTSTART:20261101T080000
END:STANDARD
END:VTIMEZONE
BEGIN:VEVENT
DTSTART;TZID=America/Denver:20250303T180000
DTEND;TZID=America/Denver:20250303T210000
DTSTAMP:20260420T021941
CREATED:20250129T183406Z
LAST-MODIFIED:20250129T183705Z
UID:10000015-1741024800-1741035600@fcahome.org
SUMMARY:Annual FCA Board Meeting
DESCRIPTION:Representatives from government agencies will be present to discuss your issues. This is your chance to get answers. Organizations invited include staff from Offices of Supervisors Don Wagner and Vicente Sarmiento\, Congresswoman Young Kim\, Assemblyman Philip Chen\, OC Public Works\, Orange County Fire Authority\, Sheriff’s Department\, California Highway Patrol\, and the East Orange County Water District. \nThere will be a Q&A panel of government agencies to take questions from the attendees. \nNote: presentations begin at 6:45. \n  \nAGENDA \n\n6:00pm Doors Open for Check-in\n6:00pm Representatives from Government Agencies Available\n6:00pm Pizza Available\n6:45pm Presentations Begin\n\nUpdate on Racquet Club Lawsuits\nCongresswoman Young Kim (invited)\nSupervisor Don Wagner (confirmed)\nSupervisor Vicente Sarmiento (invited)\n\n\n8:00pm Door Prize Drawings\n8:15 Q&A Panel\n9:00pm Meeting Adjourned
URL:https://fcahome.org/event/annual-fca-board-meeting/
LOCATION:Hewes Middle School (Corner of Foothill and Hewes\, North Tustin)\, 13232 Hewes Ave\, Santa Ana\, CA\, 92705\, United States
CATEGORIES:Board Meetings
ATTACH;FMTTYPE=image/png:https://fcahome.org/wp-content/uploads/2025/01/FCA-Image-3x2-1.png
END:VEVENT
END:VCALENDAR