BEGIN:VCALENDAR
VERSION:2.0
PRODID:-//Foothill Communities Association - ECPv6.15.20//NONSGML v1.0//EN
CALSCALE:GREGORIAN
METHOD:PUBLISH
X-ORIGINAL-URL:https://fcahome.org
X-WR-CALDESC:Events for Foothill Communities Association
REFRESH-INTERVAL;VALUE=DURATION:PT1H
X-Robots-Tag:noindex
X-PUBLISHED-TTL:PT1H
BEGIN:VTIMEZONE
TZID:America/Denver
BEGIN:DAYLIGHT
TZOFFSETFROM:-0700
TZOFFSETTO:-0600
TZNAME:MDT
DTSTART:20250309T090000
END:DAYLIGHT
BEGIN:STANDARD
TZOFFSETFROM:-0600
TZOFFSETTO:-0700
TZNAME:MST
DTSTART:20251102T080000
END:STANDARD
BEGIN:DAYLIGHT
TZOFFSETFROM:-0700
TZOFFSETTO:-0600
TZNAME:MDT
DTSTART:20260308T090000
END:DAYLIGHT
BEGIN:STANDARD
TZOFFSETFROM:-0600
TZOFFSETTO:-0700
TZNAME:MST
DTSTART:20261101T080000
END:STANDARD
BEGIN:DAYLIGHT
TZOFFSETFROM:-0700
TZOFFSETTO:-0600
TZNAME:MDT
DTSTART:20270314T090000
END:DAYLIGHT
BEGIN:STANDARD
TZOFFSETFROM:-0600
TZOFFSETTO:-0700
TZNAME:MST
DTSTART:20271107T080000
END:STANDARD
END:VTIMEZONE
BEGIN:VEVENT
DTSTART;TZID=America/Denver:20260101T190000
DTEND;TZID=America/Denver:20260101T200000
DTSTAMP:20260419T093754
CREATED:20250129T183430Z
LAST-MODIFIED:20250129T184625Z
UID:10000027-1767294000-1767297600@fcahome.org
SUMMARY:Monthly FCA Board Meetings
DESCRIPTION:Everyone is Welcome to attend!\nDate: First Thursday of every month\, except March (month of the annual meeting) and December (we go dark in December).\nTime: 7:00 pm\nPlace: Online Only. Email Rick Nelson (leadership.fca@gmail.com) if you want to participate and attendance information will be emailed to you. We cannot public publish the online login credentials to avoid distribution by hackers.
URL:https://fcahome.org/event/monthly-fca-board-meetings-2/2026-01-01/
CATEGORIES:Board Meetings
ATTACH;FMTTYPE=image/png:https://fcahome.org/wp-content/uploads/2025/01/FCA-Image-3x2-1.png
END:VEVENT
END:VCALENDAR